<?xml version="1.0" encoding="UTF-8"?>
<Capabilities xmlns="http://www.opengis.net/wmts/1.0"
xmlns:ows="http://www.opengis.net/ows/1.1"
xmlns:xlink="http://www.w3.org/1999/xlink"
xmlns:xsi="http://www.w3.org/2001/XMLSchema-instance"
xmlns:gml="http://www.opengis.net/gml"
xsi:schemaLocation="http://www.opengis.net/wmts/1.0 http://schemas.opengis.net/wmts/1.0/wmtsGetCapabilities_response.xsd"
version="1.0.0">
<!-- Service Identification --> <ows:ServiceIdentification>
<ows:Title>bldg_VeniceMainStreet</ows:Title>
<ows:ServiceType>OGC WMTS</ows:ServiceType>
<ows:ServiceTypeVersion>1.0.0</ows:ServiceTypeVersion>
</ows:ServiceIdentification> <!-- Operations Metadata --> <ows:OperationsMetadata>
<ows:Operation name="GetCapabilities">
<ows:DCP>
<ows:HTTP>
<ows:Get xlink:href="https://geoport.venicefl.gov/server/rest/services/bldg/VeniceMainStreet/MapServer/WMTS/1.0.0/WMTSCapabilities.xml">
<ows:Constraint name="GetEncoding">
<ows:AllowedValues>
<ows:Value>RESTful</ows:Value>
</ows:AllowedValues>
</ows:Constraint>
</ows:Get>
<!-- add KVP binding in 10.1 -->
<ows:Get xlink:href="https://geoport.venicefl.gov/server/rest/services/bldg/VeniceMainStreet/MapServer/WMTS?">
<ows:Constraint name="GetEncoding">
<ows:AllowedValues>
<ows:Value>KVP</ows:Value>
</ows:AllowedValues>
</ows:Constraint>
</ows:Get>
</ows:HTTP>
</ows:DCP>
</ows:Operation>
<ows:Operation name="GetTile">
<ows:DCP>
<ows:HTTP>
<ows:Get xlink:href="https://geoport.venicefl.gov/server/rest/services/bldg/VeniceMainStreet/MapServer/WMTS/tile/1.0.0/">
<ows:Constraint name="GetEncoding">
<ows:AllowedValues>
<ows:Value>RESTful</ows:Value>
</ows:AllowedValues>
</ows:Constraint>
</ows:Get>
<ows:Get xlink:href="https://geoport.venicefl.gov/server/rest/services/bldg/VeniceMainStreet/MapServer/WMTS?">
<ows:Constraint name="GetEncoding">
<ows:AllowedValues>
<ows:Value>KVP</ows:Value>
</ows:AllowedValues>
</ows:Constraint>
</ows:Get>
</ows:HTTP>
</ows:DCP>
</ows:Operation>
</ows:OperationsMetadata> <Contents>
<!--Layer--> <Layer>
<ows:Title>bldg_VeniceMainStreet</ows:Title> <ows:Identifier>bldg_VeniceMainStreet</ows:Identifier>
<ows:BoundingBox crs="urn:ogc:def:crs:EPSG::2882">
<ows:LowerCorner>508350.01580565475 1003061.7159982619</ows:LowerCorner>
<ows:UpperCorner>515711.1269167674 1008526.1257204846</ows:UpperCorner>
</ows:BoundingBox> <ows:WGS84BoundingBox crs="urn:ogc:def:crs:OGC:2:84">
<ows:LowerCorner>-82.45438520543648 27.092496632639328</ows:LowerCorner>
<ows:UpperCorner>-82.43170018611997 27.1075997929306</ows:UpperCorner>
</ows:WGS84BoundingBox>
<Style isDefault="true">
<ows:Title>Default Style</ows:Title>
<ows:Identifier>default</ows:Identifier>
</Style>
<Format>image/png</Format>
<TileMatrixSetLink>
<TileMatrixSet>default028mm</TileMatrixSet>
</TileMatrixSetLink>
<ResourceURL format="image/png" resourceType="tile" template="https://geoport.venicefl.gov/server/rest/services/bldg/VeniceMainStreet/MapServer/WMTS/tile/1.0.0/bldg_VeniceMainStreet/{Style}/{TileMatrixSet}/{TileMatrix}/{TileRow}/{TileCol}.png" />
</Layer> <!--TileMatrixSet-->
<TileMatrixSet>
<ows:Title>TileMatrix using 0.28mm</ows:Title>
<ows:Abstract>The tile matrix set that has scale values calculated based on the dpi defined by OGC specification (dpi assumes 0.28mm as the physical distance of a pixel).</ows:Abstract> <ows:Identifier>default028mm</ows:Identifier>
<ows:SupportedCRS>urn:ogc:def:crs:EPSG::2882</ows:SupportedCRS>
<TileMatrix>
<ows:Identifier>0</ows:Identifier>
<ScaleDenominator>2.7905626055528814E8</ScaleDenominator>
<TopLeftCorner>-3.2156682334481716E7 2.3980679985499576E7</TopLeftCorner> <TileWidth>256</TileWidth> <TileHeight>256</TileHeight>
<MatrixWidth>1</MatrixWidth> <MatrixHeight>1</MatrixHeight>
</TileMatrix>
<TileMatrix>
<ows:Identifier>1</ows:Identifier>
<ScaleDenominator>1.3952813027764407E8</ScaleDenominator>
<TopLeftCorner>-3.2156682334481716E7 2.3980679985499576E7</TopLeftCorner> <TileWidth>256</TileWidth> <TileHeight>256</TileHeight>
<MatrixWidth>1</MatrixWidth> <MatrixHeight>1</MatrixHeight>
</TileMatrix>
<TileMatrix>
<ows:Identifier>2</ows:Identifier>
<ScaleDenominator>6.976406513882203E7</ScaleDenominator>
<TopLeftCorner>-3.2156682334481716E7 2.3980679985499576E7</TopLeftCorner> <TileWidth>256</TileWidth> <TileHeight>256</TileHeight>
<MatrixWidth>2</MatrixWidth> <MatrixHeight>2</MatrixHeight>
</TileMatrix>
<TileMatrix>
<ows:Identifier>3</ows:Identifier>
<ScaleDenominator>3.488203256941102E7</ScaleDenominator>
<TopLeftCorner>-3.2156682334481716E7 2.3980679985499576E7</TopLeftCorner> <TileWidth>256</TileWidth> <TileHeight>256</TileHeight>
<MatrixWidth>4</MatrixWidth> <MatrixHeight>3</MatrixHeight>
</TileMatrix>
<TileMatrix>
<ows:Identifier>4</ows:Identifier>
<ScaleDenominator>1.744101628470551E7</ScaleDenominator>
<TopLeftCorner>-3.2156682334481716E7 2.3980679985499576E7</TopLeftCorner> <TileWidth>256</TileWidth> <TileHeight>256</TileHeight>
<MatrixWidth>8</MatrixWidth> <MatrixHeight>6</MatrixHeight>
</TileMatrix>
<TileMatrix>
<ows:Identifier>5</ows:Identifier>
<ScaleDenominator>8720508.142352754</ScaleDenominator>
<TopLeftCorner>-3.2156682334481716E7 2.3980679985499576E7</TopLeftCorner> <TileWidth>256</TileWidth> <TileHeight>256</TileHeight>
<MatrixWidth>16</MatrixWidth> <MatrixHeight>12</MatrixHeight>
</TileMatrix>
<TileMatrix>
<ows:Identifier>6</ows:Identifier>
<ScaleDenominator>4360254.071176377</ScaleDenominator>
<TopLeftCorner>-3.2156682334481716E7 2.3980679985499576E7</TopLeftCorner> <TileWidth>256</TileWidth> <TileHeight>256</TileHeight>
<MatrixWidth>32</MatrixWidth> <MatrixHeight>23</MatrixHeight>
</TileMatrix>
<TileMatrix>
<ows:Identifier>7</ows:Identifier>
<ScaleDenominator>2180127.0355881886</ScaleDenominator>
<TopLeftCorner>-3.2156682334481716E7 2.3980679985499576E7</TopLeftCorner> <TileWidth>256</TileWidth> <TileHeight>256</TileHeight>
<MatrixWidth>64</MatrixWidth> <MatrixHeight>45</MatrixHeight>
</TileMatrix>
<TileMatrix>
<ows:Identifier>8</ows:Identifier>
<ScaleDenominator>1090063.5177940943</ScaleDenominator>
<TopLeftCorner>-3.2156682334481716E7 2.3980679985499576E7</TopLeftCorner> <TileWidth>256</TileWidth> <TileHeight>256</TileHeight>
<MatrixWidth>128</MatrixWidth> <MatrixHeight>90</MatrixHeight>
</TileMatrix>
<TileMatrix>
<ows:Identifier>9</ows:Identifier>
<ScaleDenominator>545031.7588970471</ScaleDenominator>
<TopLeftCorner>-3.2156682334481716E7 2.3980679985499576E7</TopLeftCorner> <TileWidth>256</TileWidth> <TileHeight>256</TileHeight>
<MatrixWidth>255</MatrixWidth> <MatrixHeight>180</MatrixHeight>
</TileMatrix>
<TileMatrix>
<ows:Identifier>10</ows:Identifier>
<ScaleDenominator>272515.87944852357</ScaleDenominator>
<TopLeftCorner>-3.2156682334481716E7 2.3980679985499576E7</TopLeftCorner> <TileWidth>256</TileWidth> <TileHeight>256</TileHeight>
<MatrixWidth>510</MatrixWidth> <MatrixHeight>359</MatrixHeight>
</TileMatrix>
<TileMatrix>
<ows:Identifier>11</ows:Identifier>
<ScaleDenominator>136257.93972426179</ScaleDenominator>
<TopLeftCorner>-3.2156682334481716E7 2.3980679985499576E7</TopLeftCorner> <TileWidth>256</TileWidth> <TileHeight>256</TileHeight>
<MatrixWidth>1020</MatrixWidth> <MatrixHeight>718</MatrixHeight>
</TileMatrix>
<TileMatrix>
<ows:Identifier>12</ows:Identifier>
<ScaleDenominator>68128.96986213089</ScaleDenominator>
<TopLeftCorner>-3.2156682334481716E7 2.3980679985499576E7</TopLeftCorner> <TileWidth>256</TileWidth> <TileHeight>256</TileHeight>
<MatrixWidth>2040</MatrixWidth> <MatrixHeight>1435</MatrixHeight>
</TileMatrix>
<TileMatrix>
<ows:Identifier>13</ows:Identifier>
<ScaleDenominator>34064.484931065446</ScaleDenominator>
<TopLeftCorner>-3.2156682334481716E7 2.3980679985499576E7</TopLeftCorner> <TileWidth>256</TileWidth> <TileHeight>256</TileHeight>
<MatrixWidth>4079</MatrixWidth> <MatrixHeight>2869</MatrixHeight>
</TileMatrix>
<TileMatrix>
<ows:Identifier>14</ows:Identifier>
<ScaleDenominator>17032.242465532723</ScaleDenominator>
<TopLeftCorner>-3.2156682334481716E7 2.3980679985499576E7</TopLeftCorner> <TileWidth>256</TileWidth> <TileHeight>256</TileHeight>
<MatrixWidth>8157</MatrixWidth> <MatrixHeight>5737</MatrixHeight>
</TileMatrix>
<TileMatrix>
<ows:Identifier>15</ows:Identifier>
<ScaleDenominator>8516.121232766362</ScaleDenominator>
<TopLeftCorner>-3.2156682334481716E7 2.3980679985499576E7</TopLeftCorner> <TileWidth>256</TileWidth> <TileHeight>256</TileHeight>
<MatrixWidth>16314</MatrixWidth> <MatrixHeight>11474</MatrixHeight>
</TileMatrix>
<TileMatrix>
<ows:Identifier>16</ows:Identifier>
<ScaleDenominator>4258.060616383181</ScaleDenominator>
<TopLeftCorner>-3.2156682334481716E7 2.3980679985499576E7</TopLeftCorner> <TileWidth>256</TileWidth> <TileHeight>256</TileHeight>
<MatrixWidth>32628</MatrixWidth> <MatrixHeight>22947</MatrixHeight>
</TileMatrix>
<TileMatrix>
<ows:Identifier>17</ows:Identifier>
<ScaleDenominator>2129.0303081915904</ScaleDenominator>
<TopLeftCorner>-3.2156682334481716E7 2.3980679985499576E7</TopLeftCorner> <TileWidth>256</TileWidth> <TileHeight>256</TileHeight>
<MatrixWidth>65256</MatrixWidth> <MatrixHeight>45893</MatrixHeight>
</TileMatrix>
<TileMatrix>
<ows:Identifier>18</ows:Identifier>
<ScaleDenominator>1064.5151540957952</ScaleDenominator>
<TopLeftCorner>-3.2156682334481716E7 2.3980679985499576E7</TopLeftCorner> <TileWidth>256</TileWidth> <TileHeight>256</TileHeight>
<MatrixWidth>130511</MatrixWidth> <MatrixHeight>91785</MatrixHeight>
</TileMatrix>
<TileMatrix>
<ows:Identifier>19</ows:Identifier>
<ScaleDenominator>532.2575770478976</ScaleDenominator>
<TopLeftCorner>-3.2156682334481716E7 2.3980679985499576E7</TopLeftCorner> <TileWidth>256</TileWidth> <TileHeight>256</TileHeight>
<MatrixWidth>261022</MatrixWidth> <MatrixHeight>183570</MatrixHeight>
</TileMatrix>
<TileMatrix>
<ows:Identifier>20</ows:Identifier>
<ScaleDenominator>266.1287885239488</ScaleDenominator>
<TopLeftCorner>-3.2156682334481716E7 2.3980679985499576E7</TopLeftCorner> <TileWidth>256</TileWidth> <TileHeight>256</TileHeight>
<MatrixWidth>522044</MatrixWidth> <MatrixHeight>367140</MatrixHeight>
</TileMatrix>
<TileMatrix>
<ows:Identifier>21</ows:Identifier>
<ScaleDenominator>133.0643942619744</ScaleDenominator>
<TopLeftCorner>-3.2156682334481716E7 2.3980679985499576E7</TopLeftCorner> <TileWidth>256</TileWidth> <TileHeight>256</TileHeight>
<MatrixWidth>1044088</MatrixWidth> <MatrixHeight>734279</MatrixHeight>
</TileMatrix>
<TileMatrix>
<ows:Identifier>22</ows:Identifier>
<ScaleDenominator>66.5321971309872</ScaleDenominator>
<TopLeftCorner>-3.2156682334481716E7 2.3980679985499576E7</TopLeftCorner> <TileWidth>256</TileWidth> <TileHeight>256</TileHeight>
<MatrixWidth>2088176</MatrixWidth> <MatrixHeight>1468558</MatrixHeight>
</TileMatrix>
<TileMatrix>
<ows:Identifier>23</ows:Identifier>
<ScaleDenominator>33.2660985654936</ScaleDenominator>
<TopLeftCorner>-3.2156682334481716E7 2.3980679985499576E7</TopLeftCorner> <TileWidth>256</TileWidth> <TileHeight>256</TileHeight>
<MatrixWidth>4176351</MatrixWidth> <MatrixHeight>2937116</MatrixHeight>
</TileMatrix>
</TileMatrixSet>
</Contents>
<ServiceMetadataURL xlink:href="https://geoport.venicefl.gov/server/rest/services/bldg/VeniceMainStreet/MapServer/WMTS/1.0.0/WMTSCapabilities.xml" /> </Capabilities>
