View In:
ArcGIS JavaScript
ArcGIS Online Map Viewer
ArcGIS Earth
ArcGIS Pro
Service Description: USNG Coordinate System for local use navigation.
Map Name: Navigation
Legend
All Layers and Tables
Dynamic Legend
Dynamic All Layers
Layers:
Description: USNG Coordinate System for local use navigation.
Service Item Id: acd2f249e93f4c3e8288f1e63091caea
Copyright Text:
Spatial Reference:
32617
(32617)
LatestVCSWkid(0)
Single Fused Map Cache: true
Tile Info:
- Height: 256.0
- Width: 256.0
- DPI: 96.0
-
Levels of Detail: 24
-
Level ID: 0
[ Start Tile, End Tile ]
- Resolution: 78109.09330483258
- Scale: 2.952154707584223E8
-
Level ID: 1
[ Start Tile, End Tile ]
- Resolution: 39054.54665241629
- Scale: 1.4760773537921116E8
-
Level ID: 2
[ Start Tile, End Tile ]
- Resolution: 19527.273326208146
- Scale: 7.380386768960558E7
-
Level ID: 3
[ Start Tile, End Tile ]
- Resolution: 9763.636663104073
- Scale: 3.690193384480279E7
-
Level ID: 4
[ Start Tile, End Tile ]
- Resolution: 4881.818331552036
- Scale: 1.8450966922401395E7
-
Level ID: 5
[ Start Tile, End Tile ]
- Resolution: 2440.909165776018
- Scale: 9225483.461200697
-
Level ID: 6
[ Start Tile, End Tile ]
- Resolution: 1220.454582888009
- Scale: 4612741.730600349
-
Level ID: 7
[ Start Tile, End Tile ]
- Resolution: 610.2272914440045
- Scale: 2306370.8653001743
-
Level ID: 8
[ Start Tile, End Tile ]
- Resolution: 305.1136457220023
- Scale: 1153185.4326500872
-
Level ID: 9
[ Start Tile, End Tile ]
- Resolution: 152.55682286100114
- Scale: 576592.7163250436
-
Level ID: 10
[ Start Tile, End Tile ]
- Resolution: 76.27841143050057
- Scale: 288296.3581625218
-
Level ID: 11
[ Start Tile, End Tile ]
- Resolution: 38.139205715250284
- Scale: 144148.1790812609
-
Level ID: 12
[ Start Tile, End Tile ]
- Resolution: 19.069602857625142
- Scale: 72074.08954063045
-
Level ID: 13
[ Start Tile, End Tile ]
- Resolution: 9.534801428812571
- Scale: 36037.044770315224
-
Level ID: 14
[ Start Tile, End Tile ]
- Resolution: 4.7674007144062855
- Scale: 18018.522385157612
-
Level ID: 15
[ Start Tile, End Tile ]
- Resolution: 2.3837003572031428
- Scale: 9009.261192578806
-
Level ID: 16
[ Start Tile, End Tile ]
- Resolution: 1.1918501786015714
- Scale: 4504.630596289403
-
Level ID: 17
[ Start Tile, End Tile ]
- Resolution: 0.5959250893007857
- Scale: 2252.3152981447015
-
Level ID: 18
[ Start Tile, End Tile ]
- Resolution: 0.29796254465039285
- Scale: 1126.1576490723508
-
Level ID: 19
[ Start Tile, End Tile ]
- Resolution: 0.14898127232519642
- Scale: 563.0788245361754
-
Level ID: 20
[ Start Tile, End Tile ]
- Resolution: 0.07449063616259821
- Scale: 281.5394122680877
-
Level ID: 21
[ Start Tile, End Tile ]
- Resolution: 0.037245318081299106
- Scale: 140.76970613404384
-
Level ID: 22
[ Start Tile, End Tile ]
- Resolution: 0.018622659040649553
- Scale: 70.38485306702192
-
Level ID: 23
[ Start Tile, End Tile ]
- Resolution: 0.009311329520324776
- Scale: 35.19242653351096
- Format: PNG
- Compression Quality: 0.0
- Origin: X: -9497963.94301857
Y: 9997963.94301857
- Spatial Reference: 32617
(32617)
LatestVCSWkid(0)
Storage Info:
- Storage Format: esriMapCacheStorageModeCompactV2
- Packet Size: 128
Initial Extent:
XMin: 271846.90515851235
YMin: 2943911.934394712
XMax: 433057.38617396966
YMax: 3070007.2611295744
Spatial Reference: 32617
(32617)
LatestVCSWkid(0)
Full Extent:
XMin: 299816.20888898906
YMin: 2876067.2442109874
XMax: 402445.68202427577
YMax: 3098829.2140153456
Spatial Reference: 32617
(32617)
LatestVCSWkid(0)
Units: esriMeters
Supported Image Format Types: PNG32,PNG24,PNG,JPG,DIB,TIFF,EMF,PS,PDF,GIF,SVG,SVGZ,BMP
Document Info:
Title: Navigation.aprx
Author:
Comments: USNG Coordinate System for local use.
Subject: USNG UTM 17
Category:
Keywords: USNG,UTM 17,navigation
AntialiasingMode: Fast
TextAntialiasingMode: Force
Supports Dynamic Layers: true
Resampling: false
MaxRecordCount: 2000
MaxImageHeight: 2048
MaxImageWidth: 2048
Supported Query Formats: JSON, geoJSON, PBF
Supports Query Data Elements: true
Min Scale: 288296.3581625218
Max Scale: 4504.630596289403
Min LOD: 10
Max LOD: 16
Supports Datum Transformation: true
Child Resources:
Info
Dynamic Layer
Supported Operations:
Export Map
Identify
QueryLegends
QueryDomains
Find
Return Updates